Workbook

Sheet male lives
A1: Age | B1: 0 | C1: 100
A2: year | B2: 1981 | C2: 2019
B3: 1980-1982 | C3: 1981-1983 | D3: 1982-1984 | E3: 1983-1985 | F3: 1984-1986 | G3: 1985-1987 | H3: 1986-1988 | I3: 1987-1989 | J3: 1988-1990 | K3: 1989-1991 | L3: 1990-1992 | M3: 1991-1993 | N3: 1992-1994 | O3: 1993-1995 | P3: 1994-1996 | Q3: 1995-1997 | R3: 1996-1998 | S3: 1997-1999 | T3: 1998-2000 | U3: 1999-2001 | V3: 2000-2002 | W3: 2001-2003 | X3: 2002-2004 | Y3: 2003-2005 | Z3: 2004-2006 | AA3: 2005-2007 | AB3: 2006-2008 | AC3: 2007-2009 | AD3: 2008-2010 | AE3: 2009-2011 | AF3: 2010-2012 | AG3: 2011-2013 | AH3: 2012-2014 | AI3: 2013-2015 | AJ3: 2014-2016 | AK3: 2015-2017 | AL3: 2016-2018 | AM3: 2017-2019 | AN3: 2018-2020 | AO3: 2019-2021 | AP3: 2020-2022
A4: 0 | B4: 100000 | C4: 100000 | D4: 100000 | E4: 100000 | F4: 100000 | G4: 100000 | H4: 100000 | I4: 100000 | J4: 100000 | K4: 100000 | L4: 100000 | M4: 100000 | N4: 100000 | O4: 100000 | P4: 100000 | Q4: 100000 | R4: 100000 | S4: 100000 | T4: 100000 | U4: 100000 | V4: 100000 | W4: 100000 | X4: 100000 | Y4: 100000 | Z4: 100000 | AA4: 100000 | AB4: 100000 | AC4: 100000 | AD4: 100000 | AE4: 100000 | AF4: 100000 | AG4: 100000 | AH4: 100000 | AI4: 100000 | AJ4: 100000 | AK4: 100000 | AL4: 100000 | AM4: 100000 | AN4: 100000 | AO4: 100000 | AP4: 100000
A5: 1 | B5: 98718.3 | C5: 98787.1 | D5: 98851.2 | E5: 98915.4 | F5: 98930.7 | G5: 98942.9 | H5: 98951.1 | I5: 98996.6 | J5: 99046.5 | K5: 99109.8 | L5: 99182.5 | M5: 99242.5 | N5: 99291.6 | O5: 99308.8 | P5: 99315.1 | Q5: 99327.8 | R5: 99345.9 | S5: 99360.5 | T5: 99371.8 | U5: 99382.1 | V5: 99397.5 | W5: 99409.1 | X5: 99423.2 | Y5: 99431.7 | Z5: 99442.4 | AA5: 99449.3 | AB5: 99465.7 | AC5: 99476.8 | AD5: 99500.7 | AE5: 99510.1 | AF5: 99527.8 | AG5: 99537.9 | AH5: 99564.4 | AI5: 99571.3 | AJ5: 99577.2 | AK5: 99572.6 | AL5: 99579.6 | AM5: 99573.3 | AN5: 99577.6 | AO5: 99569.8 | AP5: 99568.6
A6: 2 | B6: 98632.5 | C6: 98705.9 | D6: 98769 | E6: 98837.6 | F6: 98855.1 | G6: 98872.6 | H6: 98882.1 | I6: 98927 | J6: 98976.6 | K6: 99041.6 | L6: 99119.2 | M6: 99183.8 | N6: 99237.5 | O6: 99257.5 | P6: 99265.3 | Q6: 99278.6 | R6: 99295.1 | S6: 99309.4 | T6: 99323.3 | U6: 99336.8 | V6: 99353.9 | W6: 99366.9 | X6: 99380.3 | Y6: 99391.4 | Z6: 99401.8 | AA6: 99409.4 | AB6: 99426.7 | AC6: 99440.6 | AD6: 99467.3 | AE6: 99477.2 | AF6: 99494.6 | AG6: 99504.8 | AH6: 99531.5 | AI6: 99539.4 | AJ6: 99546.7 | AK6: 99545.7 | AL6: 99554 | AM6: 99549.1 | AN6: 99554.8 | AO6: 99547.5 | AP6: 99546.4
A7: 3 | B7: 98580.4 | C7: 98657.5 | D7: 98723.3 | E7: 98790.7 | F7: 98809.1 | G7: 98826.7 | H7: 98838.5 | I7: 98882.1 | J7: 98932 | K7: 98998.7 | L7: 99080.6 | M7: 99146.6 | N7: 99202.8 | O7: 99224.2 | P7: 99234.8 | Q7: 99248.3 | R7: 99263.8 | S7: 99278 | T7: 99292.9 | U7: 99308.7 | V7: 99327 | W7: 99340.8 | X7: 99355 | Y7: 99366.7 | Z7: 99377.8 | AA7: 99383.7 | AB7: 99403.5 | AC7: 99419 | AD7: 99448.6 | AE7: 99457.9 | AF7: 99475.5 | AG7: 99486.2 | AH7: 99513.9 | AI7: 99522.5 | AJ7: 99530.6 | AK7: 99530.3 | AL7: 99540.2 | AM7: 99536 | AN7: 99542.2 | AO7: 99533.9 | AP7: 99531.9
A8: 4 | B8: 98540.8 | C8: 98619 | D8: 98684.5 | E8: 98751.6 | F8: 98769.6 | G8: 98790.5 | H8: 98803.9 | I8: 98847.9 | J8: 98897.5 | K8: 98965 | L8: 99050 | M8: 99117.8 | N8: 99177.7 | O8: 99199.7 | P8: 99212 | Q8: 99225.8 | R8: 99242.2 | S8: 99256.1 | T8: 99271.8 | U8: 99289.4 | V8: 99309.9 | W8: 99322.6 | X8: 99335.6 | Y8: 99346.2 | Z8: 99359.6 | AA8: 99365.9 | AB8: 99386.6 | AC8: 99403.6 | AD8: 99434.3 | AE8: 99445.3 | AF8: 99463.1 | AG8: 99475.3 | AH8: 99502.3 | AI8: 99510.2 | AJ8: 99518 | AK8: 99518.3 | AL8: 99528.8 | AM8: 99526 | AN8: 99532 | AO8: 99523.2 | AP8: 99520.2
A9: 5 | B9: 98503.3 | C9: 98584.9 | D9: 98655.2 | E9: 98722.5 | F9: 98742.3 | G9: 98761.8 | H9: 98776.6 | I9: 98820.9 | J9: 98871.4 | K9: 98940.3 | L9: 99025.8 | M9: 99094.5 | N9: 99154.5 | O9: 99179.8 | P9: 99192.6 | Q9: 99206.8 | R9: 99222.2 | S9: 99237.4 | T9: 99254.2 | U9: 99272.4 | V9: 99292.8 | W9: 99305.7 | X9: 99319.8 | Y9: 99332.6 | Z9: 99347.2 | AA9: 99352.9 | AB9: 99373.4 | AC9: 99391.6 | AD9: 99423.8 | AE9: 99435.5 | AF9: 99452.5 | AG9: 99464.5 | AH9: 99492.5 | AI9: 99500.3 | AJ9: 99509 | AK9: 99508.2 | AL9: 99518.9 | AM9: 99516.3 | AN9: 99523.5 | AO9: 99516.1 | AP9: 99512.2
A10: 6 | B10: 98472.3 | C10: 98555.9 | D10: 98627.8 | E10: 98695.8 | F10: 98716.9 | G10: 98736.8 | H10: 98752.1 | I10: 98795.8 | J10: 98847 | K10: 98916 | L10: 99003.1 | M10: 99073.8 | N10: 99137 | O10: 99163.7 | P10: 99176.8 | Q10: 99190.1 | R10: 99206 | S10: 99221.9 | T10: 99239.9 | U10: 99259 | V10: 99279.9 | W10: 99292.4 | X10: 99307.6 | Y10: 99320.9 | Z10: 99336.1 | AA10: 99341.2 | AB10: 99360.7 | AC10: 99379.3 | AD10: 99411.9 | AE10: 99424.5 | AF10: 99441.6 | AG10: 99454.1 | AH10: 99482.7 | AI10: 99491.8 | AJ10: 99499.8 | AK10: 99499 | AL10: 99509.7 | AM10: 99507.8 | AN10: 99516.1 | AO10: 99508.8 | AP10: 99505
A11: 7 | B11: 98442.9 | C11: 98526.9 | D11: 98600.9 | E11: 98671 | F11: 98695.3 | G11: 98715.9 | H11: 98730.1 | I11: 98773.5 | J11: 98824.3 | K11: 98894.3 | L11: 98982.3 | M11: 99055.4 | N11: 99119.7 | O11: 99146.8 | P11: 99161.2 | Q11: 99175.1 | R11: 99192 | S11: 99207.7 | T11: 99224.9 | U11: 99244.3 | V11: 99265.9 | W11: 99279.5 | X11: 99295.4 | Y11: 99307.8 | Z11: 99324.2 | AA11: 99329.4 | AB11: 99349.6 | AC11: 99368 | AD11: 99400.8 | AE11: 99414.2 | AF11: 99431.7 | AG11: 99445.4 | AH11: 99473.5 | AI11: 99482.7 | AJ11: 99490.8 | AK11: 99491.3 | AL11: 99501.7 | AM11: 99499.1 | AN11: 99507.6 | AO11: 99501.2 | AP11: 99498.2
A12: 8 | B12: 98415.7 | C12: 98501.3 | D12: 98576 | E12: 98644.9 | F12: 98670 | G12: 98693.1 | H12: 98708.4 | I12: 98751.3 | J12: 98802.4 | K12: 98873.5 | L12: 98963.7 | M12: 99037.2 | N12: 99102.9 | O12: 99131.8 | P12: 99147.8 | Q12: 99163 | R12: 99178.6 | S12: 99193.2 | T12: 99210.4 | U12: 99231.2 | V12: 99253.5 | W12: 99267.8 | X12: 99284.9 | Y12: 99298.2 | Z12: 99315 | AA12: 99320.3 | AB12: 99339.8 | AC12: 99358.8 | AD12: 99392.2 | AE12: 99406.5 | AF12: 99424.1 | AG12: 99436.5 | AH12: 99464.5 | AI12: 99473 | AJ12: 99482.3 | AK12: 99483 | AL12: 99494 | AM12: 99492.2 | AN12: 99501 | AO12: 99494.2 | AP12: 99490.2
A13: 9 | B13: 98389.1 | C13: 98476.4 | D13: 98551.2 | E13: 98622.2 | F13: 98648.6 | G13: 98673.1 | H13: 98686.6 | I13: 98729.8 | J13: 98781.2 | K13: 98854 | L13: 98945.3 | M13: 99019.5 | N13: 99085.7 | O13: 99114.5 | P13: 99132.3 | Q13: 99147.9 | R13: 99164.4 | S13: 99178.9 | T13: 99198 | U13: 99219.6 | V13: 99242.6 | W13: 99257.4 | X13: 99274.2 | Y13: 99287.7 | Z13: 99303.8 | AA13: 99309.1 | AB13: 99327.6 | AC13: 99347.2 | AD13: 99381.1 | AE13: 99396.1 | AF13: 99413.7 | AG13: 99427.2 | AH13: 99456.2 | AI13: 99465.9 | AJ13: 99475.8 | AK13: 99476 | AL13: 99487 | AM13: 99485.5 | AN13: 99494.1 | AO13: 99487.4 | AP13: 99482.8
A14: 10 | B14: 98365.3 | C14: 98452.9 | D14: 98528 | E14: 98600.2 | F14: 98629.3 | G14: 98655.4 | H14: 98668.4 | I14: 98711.3 | J14: 98762.7 | K14: 98835.3 | L14: 98927.5 | M14: 99001.8 | N14: 99069.8 | O14: 99098 | P14: 99116.3 | Q14: 99132.3 | R14: 99150.1 | S14: 99165.9 | T14: 99185.3 | U14: 99208.3 | V14: 99230.9 | W14: 99246.2 | X14: 99262 | Y14: 99277 | Z14: 99292.3 | AA14: 99297.7 | AB14: 99315.8 | AC14: 99337.4 | AD14: 99371.3 | AE14: 99386.2 | AF14: 99403.5 | AG14: 99418.3 | AH14: 99447.3 | AI14: 99457.2 | AJ14: 99467.3 | AK14: 99468.3 | AL14: 99480.6 | AM14: 99479.7 | AN14: 99488.2 | AO14: 99481 | AP14: 99475.4
A15: 11 | B15: 98342.3 | C15: 98430.5 | D15: 98505.3 | E15: 98577.3 | F15: 98606.7 | G15: 98635.7 | H15: 98649.5 | I15: 98692 | J15: 98742.6 | K15: 98816.4 | L15: 98909.7 | M15: 98984.5 | N15: 99054.3 | O15: 99081.7 | P15: 99101.5 | Q15: 99116.1 | R15: 99135.6 | S15: 99151.2 | T15: 99171.6 | U15: 99194.3 | V15: 99218 | W15: 99234.7 | X15: 99251.7 | Y15: 99266.2 | Z15: 99280.5 | AA15: 99287.6 | AB15: 99305.7 | AC15: 99328.7 | AD15: 99361.9 | AE15: 99377.8 | AF15: 99394.5 | AG15: 99409.6 | AH15: 99437.9 | AI15: 99447.6 | AJ15: 99458 | AK15: 99460.6 | AL15: 99473 | AM15: 99472.3 | AN15: 99480.4 | AO15: 99475.2 | AP15: 99469.6
... A104: 100 | B104: 149.6 | C104: 157.1 | D104: 171.5 | E104: 163.5 | F104: 173.1 | G104: 203.4 | H104: 239.6 | I104: 246.9 | J104: 229.7 | K104: 218.5 | L104: 239.9 | M104: 231.5 | N104: 269.7 | O104: 270 | P104: 292.8 | Q104: 297.1 | R104: 334.3 | S104: 360.9 | T104: 391 | U104: 416.2 | V104: 456.2 | W104: 475.5 | X104: 521.9 | Y104: 586.1 | Z104: 684.6 | AA104: 718.8 | AB104: 736.8 | AC104: 804.5 | AD104: 905.3 | AE104: 1044 | AF104: 1034.8 | AG104: 938.3 | AH104: 969 | AI104: 957.2 | AJ104: 1010.8 | AK104: 975.1 | AL104: 1034.8 | AM104: 1110.6 | AN104: 981.7 | AO104: 828.9 | AP104: 767.1
A105: 101
A106: 102
A107: 103
A108: 104
A109: 105
A110: 106
A111: 107
A112: 108
A113: 109
A114: 110
A115: 111
A116: 112
... A124: 120

Sheet q_
B3: ='male lives'!B3 -> 1980-1982 | C3: ='male lives'!C3 -> 1981-1983 | D3: ='male lives'!D3 -> 1982-1984 | E3: ='male lives'!E3 -> 1983-1985 | F3: ='male lives'!F3 -> 1984-1986 | G3: ='male lives'!G3 -> 1985-1987 | H3: ='male lives'!H3 -> 1986-1988 | I3: ='male lives'!I3 -> 1987-1989 | ... AP3: ='male lives'!AP3 -> 2020-2022
A4: ='male lives'!A4 -> 0 | B4: =1-'male lives'!B5/'male lives'!B4 -> 0.012817 | C4: =1-'male lives'!C5/'male lives'!C4 -> 0.012129 | D4: =1-'male lives'!D5/'male lives'!D4 -> 0.011488 | E4: =1-'male lives'!E5/'male lives'!E4 -> 0.010846 | F4: =1-'male lives'!F5/'male lives'!F4 -> 0.010693 | G4: =1-'male lives'!G5/'male lives'!G4 -> 0.010571 | H4: =1-'male lives'!H5/'male lives'!H4 -> 0.010489 | I4: =1-'male lives'!I5/'male lives'!I4 -> 0.010034 | ... AP4: =1-'male lives'!AP5/'male lives'!AP4 -> 0.004314
A5: ='male lives'!A5 -> 1 | B5: =1-'male lives'!B6/'male lives'!B5 -> 0.00086913976 | C5: =1-'male lives'!C6/'male lives'!C5 -> 0.00082196967 | D5: =1-'male lives'!D6/'male lives'!D5 -> 0.00083155288 | E5: =1-'male lives'!E6/'male lives'!E5 -> 0.00078653071 | F5: =1-'male lives'!F6/'male lives'!F5 -> 0.00076417128 | G5: =1-'male lives'!G6/'male lives'!G5 -> 0.00071051081 | H5: =1-'male lives'!H6/'male lives'!H5 -> 0.00069731413 | I5: =1-'male lives'!I6/'male lives'!I5 -> 0.00070305445 | ... AP5: =1-'male lives'!AP6/'male lives'!AP5 -> 0.00022296186
A6: ='male lives'!A6 -> 2 | B6: =1-'male lives'!B7/'male lives'!B6 -> 0.00052822346 | C6: =1-'male lives'!C7/'male lives'!C6 -> 0.00049034556 | D6: =1-'male lives'!D7/'male lives'!D6 -> 0.00046269579 | E6: =1-'male lives'!E7/'male lives'!E6 -> 0.00047451577 | F6: =1-'male lives'!F7/'male lives'!F6 -> 0.00046532753 | G6: =1-'male lives'!G7/'male lives'!G6 -> 0.00046423377 | H6: =1-'male lives'!H7/'male lives'!H6 -> 0.00044092915 | I6: =1-'male lives'!I7/'male lives'!I6 -> 0.00045387003 | ... AP6: =1-'male lives'!AP7/'male lives'!AP6 -> 0.00014566072
A7: ='male lives'!A7 -> 3 | B7: =1-'male lives'!B8/'male lives'!B7 -> 0.00040170257 | C7: =1-'male lives'!C8/'male lives'!C7 -> 0.00039023896 | D7: =1-'male lives'!D8/'male lives'!D7 -> 0.00039301766 | E7: =1-'male lives'!E8/'male lives'!E7 -> 0.00039578624 | F7: =1-'male lives'!F8/'male lives'!F7 -> 0.00039976075 | G7: =1-'male lives'!G8/'male lives'!G7 -> 0.00036629777 | H7: =1-'male lives'!H8/'male lives'!H7 -> 0.00035006602 | I7: =1-'male lives'!I8/'male lives'!I7 -> 0.00034586644 | ... AP7: =1-'male lives'!AP8/'male lives'!AP7 -> 0.00011755025
A8: ='male lives'!A8 -> 4 | B8: =1-'male lives'!B9/'male lives'!B8 -> 0.00038055303 | C8: =1-'male lives'!C9/'male lives'!C8 -> 0.00034577515 | D8: =1-'male lives'!D9/'male lives'!D8 -> 0.0002969058 | E8: =1-'male lives'!E9/'male lives'!E8 -> 0.00029467877 | F8: =1-'male lives'!F9/'male lives'!F8 -> 0.00027640084 | G8: =1-'male lives'!G9/'male lives'!G8 -> 0.00029051376 | H8: =1-'male lives'!H9/'male lives'!H8 -> 0.00027630488 | I8: =1-'male lives'!I9/'male lives'!I8 -> 0.00027314693 | ... AP8: =1-'male lives'!AP9/'male lives'!AP8 -> 8.0385691e-05
A9: ='male lives'!A9 -> 5 | B9: =1-'male lives'!B10/'male lives'!B9 -> 0.00031471027 | C9: =1-'male lives'!C10/'male lives'!C9 -> 0.0002941627 | D9: =1-'male lives'!D10/'male lives'!D9 -> 0.00027773498 | E9: =1-'male lives'!E10/'male lives'!E9 -> 0.00027045506 | F9: =1-'male lives'!F10/'male lives'!F9 -> 0.00025723525 | G9: =1-'male lives'!G10/'male lives'!G9 -> 0.00025313431 | H9: =1-'male lives'!H10/'male lives'!H9 -> 0.00024803445 | I9: =1-'male lives'!I10/'male lives'!I9 -> 0.00025399485 | ... AP9: =1-'male lives'!AP10/'male lives'!AP9 -> 7.2352938e-05
A10: ='male lives'!A10 -> 6 | B10: =1-'male lives'!B11/'male lives'!B10 -> 0.00029856112 | C10: =1-'male lives'!C11/'male lives'!C10 -> 0.00029424925 | D10: =1-'male lives'!D11/'male lives'!D10 -> 0.00027274257 | E10: =1-'male lives'!E11/'male lives'!E10 -> 0.00025127716 | F10: =1-'male lives'!F11/'male lives'!F10 -> 0.00021880752 | G10: =1-'male lives'!G11/'male lives'!G10 -> 0.00021167386 | H10: =1-'male lives'!H11/'male lives'!H10 -> 0.00022278007 | I10: =1-'male lives'!I11/'male lives'!I10 -> 0.0002257181 | ... AP10: =1-'male lives'!AP11/'male lives'!AP10 -> 6.8338274e-05
A11: ='male lives'!A11 -> 7 | B11: =1-'male lives'!B12/'male lives'!B11 -> 0.0002763023 | C11: =1-'male lives'!C12/'male lives'!C11 -> 0.00025982752 | D11: =1-'male lives'!D12/'male lives'!D11 -> 0.00025253319 | E11: =1-'male lives'!E12/'male lives'!E11 -> 0.00026451541 | F11: =1-'male lives'!F12/'male lives'!F11 -> 0.00025634453 | G11: =1-'male lives'!G12/'male lives'!G11 -> 0.00023096583 | H11: =1-'male lives'!H12/'male lives'!H11 -> 0.00021979113 | I11: =1-'male lives'!I12/'male lives'!I11 -> 0.00022475664 | ... AP11: =1-'male lives'!AP12/'male lives'!AP11 -> 8.0403465e-05
A12: ='male lives'!A12 -> 8 | B12: =1-'male lives'!B13/'male lives'!B12 -> 0.00027028208 | C12: =1-'male lives'!C13/'male lives'!C12 -> 0.00025278854 | D12: =1-'male lives'!D13/'male lives'!D12 -> 0.00025158254 | E12: =1-'male lives'!E13/'male lives'!E12 -> 0.00023011833 | F12: =1-'male lives'!F13/'male lives'!F12 -> 0.00021688456 | G12: =1-'male lives'!G13/'male lives'!G12 -> 0.00020264841 | H12: =1-'male lives'!H13/'male lives'!H12 -> 0.00022085253 | I12: =1-'male lives'!I13/'male lives'!I12 -> 0.00021771865 | ... AP12: =1-'male lives'!AP13/'male lives'!AP12 -> 7.4379185e-05
A13: ='male lives'!A13 -> 9 | B13: =1-'male lives'!B14/'male lives'!B13 -> 0.00024189671 | C13: =1-'male lives'!C14/'male lives'!C13 -> 0.00023863586 | D13: =1-'male lives'!D14/'male lives'!D13 -> 0.00023541063 | E13: =1-'male lives'!E14/'male lives'!E13 -> 0.00022307351 | F13: =1-'male lives'!F14/'male lives'!F13 -> 0.00019564393 | G13: =1-'male lives'!G14/'male lives'!G13 -> 0.0001793802 | H13: =1-'male lives'!H14/'male lives'!H13 -> 0.0001844222 | I13: =1-'male lives'!I14/'male lives'!I13 -> 0.0001873801 | ... AP13: =1-'male lives'!AP14/'male lives'!AP13 -> 7.4384718e-05
A14: ='male lives'!A14 -> 10 | B14: =1-'male lives'!B15/'male lives'!B14 -> 0.00023382229 | C14: =1-'male lives'!C15/'male lives'!C14 -> 0.00022751996 | D14: =1-'male lives'!D15/'male lives'!D14 -> 0.00023039136 | E14: =1-'male lives'!E15/'male lives'!E14 -> 0.00023225105 | F14: =1-'male lives'!F15/'male lives'!F14 -> 0.00022914083 | G14: =1-'male lives'!G15/'male lives'!G14 -> 0.00019968496 | H14: =1-'male lives'!H15/'male lives'!H14 -> 0.00019155069 | I14: =1-'male lives'!I15/'male lives'!I14 -> 0.00019551966 | ... AP14: =1-'male lives'!AP15/'male lives'!AP14 -> 5.8305873e-05
A15: ='male lives'!A15 -> 11 | B15: =1-'male lives'!B16/'male lives'!B15 -> 0.00026641638 | C15: =1-'male lives'!C16/'male lives'!C15 -> 0.00026516171 | D15: =1-'male lives'!D16/'male lives'!D15 -> 0.00026191484 | E15: =1-'male lives'!E16/'male lives'!E15 -> 0.00027389673 | F15: =1-'male lives'!F16/'male lives'!F15 -> 0.00025556073 | G15: =1-'male lives'!G16/'male lives'!G15 -> 0.00023926428 | H15: =1-'male lives'!H16/'male lives'!H15 -> 0.00021490225 | I15: =1-'male lives'!I16/'male lives'!I15 -> 0.00021480971 | ... AP15: =1-'male lives'!AP16/'male lives'!AP15 -> 7.5399921e-05
... A103: ='male lives'!A103 -> 99 | B103: =1-'male lives'!B104/'male lives'!B103 -> 0.35931478 | C103: =1-'male lives'!C104/'male lives'!C103 -> 0.3440501 | D103: =1-'male lives'!D104/'male lives'!D103 -> 0.33655706 | E103: =1-'male lives'!E104/'male lives'!E103 -> 0.3522187 | F103: =1-'male lives'!F104/'male lives'!F103 -> 0.36054673 | G103: =1-'male lives'!G104/'male lives'!G103 -> 0.32559682 | H103: =1-'male lives'!H104/'male lives'!H103 -> 0.32468997 | I103: =1-'male lives'!I104/'male lives'!I103 -> 0.33718121 | ... AP103: =1-'male lives'!AP104/'male lives'!AP103 -> 0.38754491
A104: ='male lives'!A104 -> 100

Sheet ln_q
A3: =q_!A3 -> 0 | B3: =q_!B3 -> 1980-1982 | C3: =q_!C3 -> 1981-1983 | D3: =q_!D3 -> 1982-1984 | E3: =q_!E3 -> 1983-1985 | F3: =q_!F3 -> 1984-1986 | G3: =q_!G3 -> 1985-1987 | H3: =q_!H3 -> 1986-1988 | ... AP3: =q_!AP3 -> 2020-2022
A4: =q_!A4 -> 0 | B4: =LN(q_!B4) -> -4.3569829 | C4: =LN(q_!C4) -> -4.412156 | D4: =LN(q_!D4) -> -4.4664523 | E4: =LN(q_!E4) -> -4.5239589 | F4: =LN(q_!F4) -> -4.538166 | G4: =LN(q_!G4) -> -4.5496409 | H4: =LN(q_!H4) -> -4.5574282 | I4: =LN(q_!I4) -> -4.601776 | ... AP4: =LN(q_!AP4) -> -5.4458897
A5: =q_!A5 -> 1 | B5: =LN(q_!B5) -> -7.0480066 | C5: =LN(q_!C5) -> -7.1038071 | D5: =LN(q_!D5) -> -7.0922157 | E5: =LN(q_!E5) -> -7.1478788 | F5: =LN(q_!F5) -> -7.1767186 | G5: =LN(q_!G5) -> -7.2495264 | H5: =LN(q_!H5) -> -7.2682746 | I5: =LN(q_!I5) -> -7.2600762 | ... AP5: =LN(q_!AP5) -> -8.4085098
A6: =q_!A6 -> 2 | B6: =LN(q_!B6) -> -7.5459912 | C6: =LN(q_!C6) -> -7.6204002 | D6: =LN(q_!D6) -> -7.6784408 | E6: =LN(q_!E6) -> -7.6532157 | F6: =LN(q_!F6) -> -7.672769 | G6: =LN(q_!G6) -> -7.6751223 | H6: =LN(q_!H6) -> -7.7266264 | I6: =LN(q_!I6) -> -7.6976997 | ... AP6: =LN(q_!AP6) -> -8.8342305
A7: =q_!A7 -> 3 | B7: =LN(q_!B7) -> -7.8197986 | C7: =LN(q_!C7) -> -7.8487513 | D7: =LN(q_!D7) -> -7.841656 | E7: =LN(q_!E7) -> -7.8346363 | F7: =LN(q_!F7) -> -7.8246443 | G7: =LN(q_!G7) -> -7.912064 | H7: =LN(q_!H7) -> -7.9573888 | I7: =LN(q_!I7) -> -7.9694579 | ... AP7: =LN(q_!AP7) -> -9.0486446
A8: =q_!A8 -> 4 | B8: =LN(q_!B8) -> -7.873885 | C8: =LN(q_!C8) -> -7.9697218 | D8: =LN(q_!D8) -> -8.1220957 | E8: =LN(q_!E8) -> -8.1296247 | F8: =LN(q_!F8) -> -8.1936584 | G8: =LN(q_!G8) -> -8.1438596 | H8: =LN(q_!H8) -> -8.1940057 | I8: =LN(q_!I8) -> -8.2055007 | ... AP8: =LN(q_!AP8) -> -9.4286744
A9: =q_!A9 -> 5 | B9: =LN(q_!B9) -> -8.0638581 | C9: =LN(q_!C9) -> -8.1313776 | D9: =LN(q_!D9) -> -8.1888432 | E9: =LN(q_!E9) -> -8.2154046 | F9: =LN(q_!F9) -> -8.2655195 | G9: =LN(q_!G9) -> -8.2815903 | H9: =LN(q_!H9) -> -8.3019429 | I9: =LN(q_!I9) -> -8.2781966 | ... AP9: =LN(q_!AP9) -> -9.5339545
A10: =q_!A10 -> 6 | B10: =LN(q_!B10) -> -8.1165359 | C10: =LN(q_!C10) -> -8.1310833 | D10: =LN(q_!D10) -> -8.2069822 | E10: =LN(q_!E10) -> -8.288954 | F10: =LN(q_!F10) -> -8.4273181 | G10: =LN(q_!G10) -> -8.4604638 | H10: =LN(q_!H10) -> -8.4093255 | I10: =LN(q_!I10) -> -8.3962237 | ... AP10: =LN(q_!AP10) -> -9.5910406
A11: =q_!A11 -> 7 | B11: =LN(q_!B11) -> -8.194015 | C11: =LN(q_!C11) -> -8.2554925 | D11: =LN(q_!D11) -> -8.2839679 | E11: =LN(q_!E11) -> -8.237611 | F11: =LN(q_!F11) -> -8.2689882 | G11: =LN(q_!G11) -> -8.3732408 | H11: =LN(q_!H11) -> -8.4228329 | I11: =LN(q_!I11) -> -8.4004923 | ... AP11: =LN(q_!AP11) -> -9.4284533
A12: =q_!A12 -> 8 | B12: =LN(q_!B12) -> -8.2160444 | C12: =LN(q_!C12) -> -8.2829572 | D12: =LN(q_!D12) -> -8.2877395 | E12: =LN(q_!E12) -> -8.3769169 | F12: =LN(q_!F12) -> -8.4361453 | G12: =LN(q_!G12) -> -8.504038 | H12: =LN(q_!H12) -> -8.4180154 | I12: =LN(q_!I12) -> -8.4323069 | ... AP12: =LN(q_!AP12) -> -9.5063344
A13: =q_!A13 -> 9 | B13: =LN(q_!B13) -> -8.3269997 | C13: =LN(q_!C13) -> -8.3405718 | D13: =LN(q_!D13) -> -8.3541792 | E13: =LN(q_!E13) -> -8.4080092 | F13: =LN(q_!F13) -> -8.5392142 | G13: =LN(q_!G13) -> -8.626003 | H13: =LN(q_!H13) -> -8.5982829 | I13: =LN(q_!I13) -> -8.5823714 | ... AP13: =LN(q_!AP13) -> -9.50626
A14: =q_!A14 -> 10 | B14: =LN(q_!B14) -> -8.3609492 | C14: =LN(q_!C14) -> -8.3882726 | D14: =LN(q_!D14) -> -8.3757311 | E14: =LN(q_!E14) -> -8.3676917 | F14: =LN(q_!F14) -> -8.3811738 | G14: =LN(q_!G14) -> -8.5187696 | H14: =LN(q_!H14) -> -8.5603581 | I14: =LN(q_!I14) -> -8.5398496 | ... AP14: =LN(q_!AP14) -> -9.7498077
A15: =q_!A15 -> 11 | B15: =LN(q_!B15) -> -8.2304501 | C15: =LN(q_!C15) -> -8.2351707 | D15: =LN(q_!D15) -> -8.2474911 | E15: =LN(q_!E15) -> -8.2027594 | F15: =LN(q_!F15) -> -8.2720505 | G15: =LN(q_!G15) -> -8.3379418 | H15: =LN(q_!H15) -> -8.4453273 | I15: =LN(q_!I15) -> -8.445758 | ... AP15: =LN(q_!AP15) -> -9.4927043
... A103: =q_!A103 -> 99 | B103: =LN(q_!B103) -> -1.0235565 | C103: =LN(q_!C103) -> -1.066968 | D103: =LN(q_!D103) -> -1.0889876 | E103: =LN(q_!E103) -> -1.043503 | F103: =LN(q_!F103) -> -1.0201337 | G103: =LN(q_!G103) -> -1.1220954 | H103: =LN(q_!H103) -> -1.1248845 | I103: =LN(q_!I103) -> -1.0871348 | ... AP103: =LN(q_!AP103) -> -0.94792354
A104: =q_!A104 -> 100

Sheet improvement
A3: =ln_q!A3 -> 0 | B3: =ln_q!B3 -> 1980-1982 | C3: =ln_q!C3 -> 1981-1983 | D3: =ln_q!D3 -> 1982-1984 | E3: =ln_q!E3 -> 1983-1985 | F3: =ln_q!F3 -> 1984-1986 | G3: =ln_q!G3 -> 1985-1987 | H3: =ln_q!H3 -> 1986-1988 | ... AP3: =ln_q!AP3 -> 2020-2022
A4: =ln_q!A4 -> 0 | C4: =-ln_q!C4+ln_q!B4 -> 0.055173135 | D4: =-ln_q!D4+ln_q!C4 -> 0.054296267 | E4: =-ln_q!E4+ln_q!D4 -> 0.057506664 | F4: =-ln_q!F4+ln_q!E4 -> 0.014207027 | G4: =-ln_q!G4+ln_q!F4 -> 0.011474919 | H4: =-ln_q!H4+ln_q!G4 -> 0.0077873138 | I4: =-ln_q!I4+ln_q!H4 -> 0.044347763 | J4: =-ln_q!J4+ln_q!I4 -> 0.051010087 | ... AP4: =-ln_q!AP4+ln_q!AO4 -> -0.0027855171
A5: =ln_q!A5 -> 1 | C5: =-ln_q!C5+ln_q!B5 -> 0.055800449 | D5: =-ln_q!D5+ln_q!C5 -> -0.011591395 | E5: =-ln_q!E5+ln_q!D5 -> 0.055663121 | F5: =-ln_q!F5+ln_q!E5 -> 0.028839814 | G5: =-ln_q!G5+ln_q!F5 -> 0.072807795 | H5: =-ln_q!H5+ln_q!G5 -> 0.018748167 | I5: =-ln_q!I5+ln_q!H5 -> -0.0081983453 | J5: =-ln_q!J5+ln_q!I5 -> -0.0037971512 | ... AP5: =-ln_q!AP5+ln_q!AO5 -> 0.0044823377
A6: =ln_q!A6 -> 2 | C6: =-ln_q!C6+ln_q!B6 -> 0.074409035 | D6: =-ln_q!D6+ln_q!C6 -> 0.058040584 | E6: =-ln_q!E6+ln_q!D6 -> -0.025225069 | F6: =-ln_q!F6+ln_q!E6 -> 0.019553321 | G6: =-ln_q!G6+ln_q!F6 -> 0.0023532905 | H6: =-ln_q!H6+ln_q!G6 -> 0.051504045 | I6: =-ln_q!I6+ln_q!H6 -> -0.028926671 | J6: =-ln_q!J6+ln_q!I6 -> 0.0072051899 | ... AP6: =-ln_q!AP6+ln_q!AO6 -> -0.064089907
A7: =ln_q!A7 -> 3 | C7: =-ln_q!C7+ln_q!B7 -> 0.028952674 | D7: =-ln_q!D7+ln_q!C7 -> -0.0070952738 | E7: =-ln_q!E7+ln_q!D7 -> -0.0070197371 | F7: =-ln_q!F7+ln_q!E7 -> -0.0099919699 | G7: =-ln_q!G7+ln_q!F7 -> 0.087419658 | H7: =-ln_q!H7+ln_q!G7 -> 0.045324831 | I7: =-ln_q!I7+ln_q!H7 -> 0.012069064 | J7: =-ln_q!J7+ln_q!I7 -> -0.0082291659 | ... AP7: =-ln_q!AP7+ln_q!AO7 -> -0.089365194
A8: =ln_q!A8 -> 4 | C8: =-ln_q!C8+ln_q!B8 -> 0.095836814 | D8: =-ln_q!D8+ln_q!C8 -> 0.15237382 | E8: =-ln_q!E8+ln_q!D8 -> 0.0075290555 | F8: =-ln_q!F8+ln_q!E8 -> 0.064033731 | G8: =-ln_q!G8+ln_q!F8 -> -0.049798839 | H8: =-ln_q!H8+ln_q!G8 -> 0.050146052 | I8: =-ln_q!I8+ln_q!H8 -> 0.011495064 | J8: =-ln_q!J8+ln_q!I8 -> 0.034403207 | ... AP8: =-ln_q!AP8+ln_q!AO8 -> -0.1193769
A9: =ln_q!A9 -> 5 | C9: =-ln_q!C9+ln_q!B9 -> 0.06751943 | D9: =-ln_q!D9+ln_q!C9 -> 0.057465653 | E9: =-ln_q!E9+ln_q!D9 -> 0.026561389 | F9: =-ln_q!F9+ln_q!E9 -> 0.050114933 | G9: =-ln_q!G9+ln_q!F9 -> 0.016070813 | H9: =-ln_q!H9+ln_q!G9 -> 0.020352552 | I9: =-ln_q!I9+ln_q!H9 -> -0.023746342 | J9: =-ln_q!J9+ln_q!I9 -> 0.028795609 | ... AP9: =-ln_q!AP9+ln_q!AO9 -> 0.013754132
A10: =ln_q!A10 -> 6 | C10: =-ln_q!C10+ln_q!B10 -> 0.014547454 | D10: =-ln_q!D10+ln_q!C10 -> 0.075898813 | E10: =-ln_q!E10+ln_q!D10 -> 0.081971857 | F10: =-ln_q!F10+ln_q!E10 -> 0.1383641 | G10: =-ln_q!G10+ln_q!F10 -> 0.033145722 | H10: =-ln_q!H10+ln_q!G10 -> -0.051138349 | I10: =-ln_q!I10+ln_q!H10 -> -0.013101801 | J10: =-ln_q!J10+ln_q!I10 -> -0.01726014 | ... AP10: =-ln_q!AP10+ln_q!AO10 -> 0.11118745
A11: =ln_q!A11 -> 7 | C11: =-ln_q!C11+ln_q!B11 -> 0.061477544 | D11: =-ln_q!D11+ln_q!C11 -> 0.02847533 | E11: =-ln_q!E11+ln_q!D11 -> -0.046356817 | F11: =-ln_q!F11+ln_q!E11 -> 0.031377161 | G11: =-ln_q!G11+ln_q!F11 -> 0.10425256 | H11: =-ln_q!H11+ln_q!G11 -> 0.049592112 | I11: =-ln_q!I11+ln_q!H11 -> -0.022340543 | J11: =-ln_q!J11+ln_q!I11 -> 0.014119828 | ... AP11: =-ln_q!AP11+ln_q!AO11 -> -0.13356154
A12: =ln_q!A12 -> 8 | C12: =-ln_q!C12+ln_q!B12 -> 0.066912814 | D12: =-ln_q!D12+ln_q!C12 -> 0.0047822285 | E12: =-ln_q!E12+ln_q!D12 -> 0.089177438 | F12: =-ln_q!F12+ln_q!E12 -> 0.059228418 | G12: =-ln_q!G12+ln_q!F12 -> 0.067892735 | H12: =-ln_q!H12+ln_q!G12 -> -0.086022682 | I12: =-ln_q!I12+ln_q!H12 -> 0.014291554 | J12: =-ln_q!J12+ln_q!I12 -> 0.014569081 | ... AP12: =-ln_q!AP12+ln_q!AO12 -> -0.084597592
A13: =ln_q!A13 -> 9 | C13: =-ln_q!C13+ln_q!B13 -> 0.01357206 | D13: =-ln_q!D13+ln_q!C13 -> 0.013607427 | E13: =-ln_q!E13+ln_q!D13 -> 0.053830004 | F13: =-ln_q!F13+ln_q!E13 -> 0.13120501 | G13: =-ln_q!G13+ln_q!F13 -> 0.086788782 | H13: =-ln_q!H13+ln_q!G13 -> -0.027720148 | I13: =-ln_q!I13+ln_q!H13 -> -0.015911484 | J13: =-ln_q!J13+ln_q!I13 -> 0.00052047735 | ... AP13: =-ln_q!AP13+ln_q!AO13 -> -0.14522825
A14: =ln_q!A14 -> 10 | C14: =-ln_q!C14+ln_q!B14 -> 0.027323419 | D14: =-ln_q!D14+ln_q!C14 -> -0.012541455 | E14: =-ln_q!E14+ln_q!D14 -> -0.0080394678 | F14: =-ln_q!F14+ln_q!E14 -> 0.013482092 | G14: =-ln_q!G14+ln_q!F14 -> 0.13759586 | H14: =-ln_q!H14+ln_q!G14 -> 0.041588477 | I14: =-ln_q!I14+ln_q!H14 -> -0.020508479 | J14: =-ln_q!J14+ln_q!I14 -> -0.040094144 | ... AP14: =-ln_q!AP14+ln_q!AO14 -> -5.6293737e-05
A15: =ln_q!A15 -> 11 | C15: =-ln_q!C15+ln_q!B15 -> 0.0047205619 | D15: =-ln_q!D15+ln_q!C15 -> 0.012320461 | E15: =-ln_q!E15+ln_q!D15 -> -0.044731716 | F15: =-ln_q!F15+ln_q!E15 -> 0.06929107 | G15: =-ln_q!G15+ln_q!F15 -> 0.065891337 | H15: =-ln_q!H15+ln_q!G15 -> 0.10738543 | I15: =-ln_q!I15+ln_q!H15 -> 0.00043072542 | J15: =-ln_q!J15+ln_q!I15 -> -0.0088771655 | ... AP15: =-ln_q!AP15+ln_q!AO15 -> -0.027084969
... A103: =ln_q!A103 -> 99 | C103: =-ln_q!C103+ln_q!B103 -> 0.043411516 | D103: =-ln_q!D103+ln_q!C103 -> 0.022019595 | E103: =-ln_q!E103+ln_q!D103 -> -0.045484587 | F103: =-ln_q!F103+ln_q!E103 -> -0.023369285 | G103: =-ln_q!G103+ln_q!F103 -> 0.10196172 | H103: =-ln_q!H103+ln_q!G103 -> 0.0027890814 | I103: =-ln_q!I103+ln_q!H103 -> -0.037749718 | J103: =-ln_q!J103+ln_q!I103 -> -0.086756106 | ... AP103: =-ln_q!AP103+ln_q!AO103 -> -0.028702765
A104: =ln_q!A104 -> 100
